BEGIN:VCALENDAR
VERSION:2.0
PRODID:-//Delaware Association of Conservation Districts - ECPv6.15.18//NONSGML v1.0//EN
CALSCALE:GREGORIAN
METHOD:PUBLISH
X-ORIGINAL-URL:https://dacdnet.org
X-WR-CALDESC:Events for Delaware Association of Conservation Districts
REFRESH-INTERVAL;VALUE=DURATION:PT1H
X-Robots-Tag:noindex
X-PUBLISHED-TTL:PT1H
BEGIN:VTIMEZONE
TZID:America/New_York
BEGIN:DAYLIGHT
TZOFFSETFROM:-0500
TZOFFSETTO:-0400
TZNAME:EDT
DTSTART:20180311T070000
END:DAYLIGHT
BEGIN:STANDARD
TZOFFSETFROM:-0400
TZOFFSETTO:-0500
TZNAME:EST
DTSTART:20181104T060000
END:STANDARD
BEGIN:DAYLIGHT
TZOFFSETFROM:-0500
TZOFFSETTO:-0400
TZNAME:EDT
DTSTART:20190310T070000
END:DAYLIGHT
BEGIN:STANDARD
TZOFFSETFROM:-0400
TZOFFSETTO:-0500
TZNAME:EST
DTSTART:20191103T060000
END:STANDARD
BEGIN:DAYLIGHT
TZOFFSETFROM:-0500
TZOFFSETTO:-0400
TZNAME:EDT
DTSTART:20200308T070000
END:DAYLIGHT
BEGIN:STANDARD
TZOFFSETFROM:-0400
TZOFFSETTO:-0500
TZNAME:EST
DTSTART:20201101T060000
END:STANDARD
END:VTIMEZONE
BEGIN:VEVENT
DTSTART;TZID=America/New_York:20190911T050000
DTEND;TZID=America/New_York:20190911T110000
DTSTAMP:20260423T214806
CREATED:20190806T174032Z
LAST-MODIFIED:20190806T181454Z
UID:140-1568178000-1568199600@dacdnet.org
SUMMARY:Cover Crops & Soil Health Training for Agribusiness Professionals with Steve Groff
DESCRIPTION:Pennsylvania no-tiller and cover crop educator Steve Groff will host a seminar for agronomists\, seed salespeople\, researchers and other stakeholders in agriculture whose job is to work with growers to adopt cover crops and provide technical assistance or guidance. \nSteve will cover topics such as: \n\n\nRoadblocks to adoption\, \n\n\nSetting realistic goals\, \n\n\nWhat to do or NOT do when sharing anecdotes from innovators\, and \n\n\nHow to help growers understand the proper mindset for successful adoption. \n\n\nHe’ll also cover mistakes cover crop seed salespeople need to avoid and share some tips for organizing field days that are helpful for growers. \nvia SteveGroff.com
URL:https://dacdnet.org/event/cover-crops-soil-health-training-for-agribusiness-professionals-with-steve-groff/
LOCATION:Caroline County Soil Conservation District\, 9194 Legion Road\, Denton\, 21629\, United States
END:VEVENT
BEGIN:VEVENT
DTSTART;TZID=America/New_York:20190822T043000
DTEND;TZID=America/New_York:20190822T103000
DTSTAMP:20260423T214806
CREATED:20190806T231109Z
LAST-MODIFIED:20190806T231109Z
UID:170-1566448200-1566469800@dacdnet.org
SUMMARY:4R Technology Field Day
DESCRIPTION:The Delaware-Maryland 4R Alliance invites growers and agribusiness professionals to join them for their 4R Technology Field Day on August 22\, 2019 at the Willard Agri-Service Liquid Fertilizer Plant in Greenwood\, Delaware. The event will showcase application of the 4Rs (right source\, right rate\, right time\, and right place) on the Delmarva. \nDemonstrations will include nitrogen modeling tools\, Trident liquid/dry sprayer/spreader\, Falcon auto-soil sampling machine\, and seed genetics. National 4R Advocate farmer Jon Quinn will also share his experiences using 4R practices on his farm. \nRegistration will begin at 8:30 and the program will be from 9:30 – 2:30. Lunch will be provided as well as Nutrient Management and Certified Crop Adviser credits. We ask that you register so we can get an accurate count.
URL:https://dacdnet.org/event/4r-technology-field-day/
LOCATION:Willard Agri-Service\, Greenwood\, DE\, United States
END:VEVENT
BEGIN:VEVENT
DTSTART;TZID=America/New_York:20190820T043000
DTEND;TZID=America/New_York:20190820T080000
DTSTAMP:20260423T214806
CREATED:20190806T173540Z
LAST-MODIFIED:20190806T173540Z
UID:136-1566275400-1566288000@dacdnet.org
SUMMARY:Planting Green for Soil Health Field Day
DESCRIPTION:Manage your fields to boost organic matter & weed supression: \n\nHear from farmers who are planting green in the field\nLearn about soil health research updates\nSee different equipment & discuss setup options\, including Dawn Equipment’s ZRX Roller/Crimper
URL:https://dacdnet.org/event/planting-green-for-soil-health-field-day/
LOCATION:H&V Farms\, 30726 Ross Point Road\, Laurel\, DE\, 19956\, United States
END:VEVENT
END:VCALENDAR